BEGIN:VCALENDAR
VERSION:2.0
PRODID:-//Borough of Point Pleasant - ECPv6.6.4.2//NONSGML v1.0//EN
CALSCALE:GREGORIAN
METHOD:PUBLISH
X-WR-CALNAME:Borough of Point Pleasant
X-ORIGINAL-URL:https://ptboro.com
X-WR-CALDESC:Events for Borough of Point Pleasant
REFRESH-INTERVAL;VALUE=DURATION:PT1H
X-Robots-Tag:noindex
X-PUBLISHED-TTL:PT1H
BEGIN:VTIMEZONE
TZID:America/New_York
BEGIN:DAYLIGHT
TZOFFSETFROM:-0500
TZOFFSETTO:-0400
TZNAME:EDT
DTSTART:20190310T070000
END:DAYLIGHT
BEGIN:STANDARD
TZOFFSETFROM:-0400
TZOFFSETTO:-0500
TZNAME:EST
DTSTART:20191103T060000
END:STANDARD
END:VTIMEZONE
BEGIN:VEVENT
DTSTART;TZID=America/New_York:20190219T080000
DTEND;TZID=America/New_York:20190219T170000
DTSTAMP:20260420T120331
CREATED:20190403T131548Z
LAST-MODIFIED:20190403T131623Z
UID:6586-1550563200-1550595600@ptboro.com
SUMMARY:Environmental Commission Meeting
DESCRIPTION:
URL:https://ptboro.com/event/environmental-commission-meeting/
LOCATION:NJ
CATEGORIES:Borough Events
END:VEVENT
END:VCALENDAR