BEGIN:VCALENDAR
VERSION:2.0
PRODID:-//Borough of Point Pleasant - ECPv6.6.4.2//NONSGML v1.0//EN
CALSCALE:GREGORIAN
METHOD:PUBLISH
X-WR-CALNAME:Borough of Point Pleasant
X-ORIGINAL-URL:https://ptboro.com
X-WR-CALDESC:Events for Borough of Point Pleasant
REFRESH-INTERVAL;VALUE=DURATION:PT1H
X-Robots-Tag:noindex
X-PUBLISHED-TTL:PT1H
BEGIN:VTIMEZONE
TZID:America/New_York
BEGIN:DAYLIGHT
TZOFFSETFROM:-0500
TZOFFSETTO:-0400
TZNAME:EDT
DTSTART:20190310T070000
END:DAYLIGHT
BEGIN:STANDARD
TZOFFSETFROM:-0400
TZOFFSETTO:-0500
TZNAME:EST
DTSTART:20191103T060000
END:STANDARD
END:VTIMEZONE
BEGIN:VEVENT
DTSTART;TZID=America/New_York:20190502T173000
DTEND;TZID=America/New_York:20190502T183000
DTSTAMP:20260420T073848
CREATED:20190429T155906Z
LAST-MODIFIED:20190429T155906Z
UID:6663-1556818200-1556821800@ptboro.com
SUMMARY:Mayor's Hours
DESCRIPTION:Have a question\, concern or issue and would like to speak to Mayor Sabosik one on one? Then come to Mayor’s Hours.  No appointment is necessary\, first come first served.
URL:https://ptboro.com/event/mayors-hours-2/
LOCATION:Courtoom\, Borough Hall\, 2233 Bridge Avenue\, Point Pleasant\, NJ\, 08742
CATEGORIES:Borough Events
END:VEVENT
BEGIN:VEVENT
DTSTART;TZID=America/New_York:20190508T190000
DTEND;TZID=America/New_York:20190508T220000
DTSTAMP:20260420T073848
CREATED:20190429T160152Z
LAST-MODIFIED:20190429T160152Z
UID:6665-1557342000-1557352800@ptboro.com
SUMMARY:Zoning Board Meeting
DESCRIPTION:
URL:https://ptboro.com/event/zoning-board-meeting/
LOCATION:Courtoom\, Borough Hall\, 2233 Bridge Avenue\, Point Pleasant\, NJ\, 08742
CATEGORIES:Borough Events
END:VEVENT
BEGIN:VEVENT
DTSTART;TZID=America/New_York:20190513T190000
DTEND;TZID=America/New_York:20190513T210000
DTSTAMP:20260420T073848
CREATED:20190429T160004Z
LAST-MODIFIED:20190429T160004Z
UID:6664-1557774000-1557781200@ptboro.com
SUMMARY:Council Meeting
DESCRIPTION:
URL:https://ptboro.com/event/council-meeting-3/
LOCATION:Courtoom\, Borough Hall\, 2233 Bridge Avenue\, Point Pleasant\, NJ\, 08742
CATEGORIES:Borough Events
END:VEVENT
BEGIN:VEVENT
DTSTART;TZID=America/New_York:20190522T190000
DTEND;TZID=America/New_York:20190522T220000
DTSTAMP:20260420T073848
CREATED:20190429T160242Z
LAST-MODIFIED:20190429T160242Z
UID:6666-1558551600-1558562400@ptboro.com
SUMMARY:Zoning Board Meeting
DESCRIPTION:
URL:https://ptboro.com/event/zoning-board-meeting-2/
LOCATION:Courtoom\, Borough Hall\, 2233 Bridge Avenue\, Point Pleasant\, NJ\, 08742
CATEGORIES:Borough Events
END:VEVENT
BEGIN:VEVENT
DTSTART;TZID=America/New_York:20190523T190000
DTEND;TZID=America/New_York:20190523T220000
DTSTAMP:20260420T073848
CREATED:20190429T160331Z
LAST-MODIFIED:20190429T160331Z
UID:6667-1558638000-1558648800@ptboro.com
SUMMARY:Planning Board Meeting
DESCRIPTION:
URL:https://ptboro.com/event/planning-board-meeting/
LOCATION:Courtoom\, Borough Hall\, 2233 Bridge Avenue\, Point Pleasant\, NJ\, 08742
CATEGORIES:Borough Events
END:VEVENT
BEGIN:VEVENT
DTSTART;TZID=America/New_York:20190526T120000
DTEND;TZID=America/New_York:20190526T130000
DTSTAMP:20260420T073848
CREATED:20190429T160440Z
LAST-MODIFIED:20190429T160440Z
UID:6668-1558872000-1558875600@ptboro.com
SUMMARY:Memorial Day Ceremony
DESCRIPTION:
URL:https://ptboro.com/event/memorial-day-ceremony/
LOCATION:Community Park\, Corner of Bridge Avenue and Beaver Dam Roan\, Point Pleasant\, NJ\, 08742
CATEGORIES:Borough Events
END:VEVENT
END:VCALENDAR