BEGIN:VCALENDAR
VERSION:2.0
PRODID:-//Borough of Point Pleasant - ECPv6.6.4.2//NONSGML v1.0//EN
CALSCALE:GREGORIAN
METHOD:PUBLISH
X-ORIGINAL-URL:https://ptboro.com
X-WR-CALDESC:Events for Borough of Point Pleasant
REFRESH-INTERVAL;VALUE=DURATION:PT1H
X-Robots-Tag:noindex
X-PUBLISHED-TTL:PT1H
BEGIN:VTIMEZONE
TZID:America/New_York
BEGIN:DAYLIGHT
TZOFFSETFROM:-0500
TZOFFSETTO:-0400
TZNAME:EDT
DTSTART:20190310T070000
END:DAYLIGHT
BEGIN:STANDARD
TZOFFSETFROM:-0400
TZOFFSETTO:-0500
TZNAME:EST
DTSTART:20191103T060000
END:STANDARD
END:VTIMEZONE
BEGIN:VEVENT
DTSTART;TZID=America/New_York:20190905T173000
DTEND;TZID=America/New_York:20190905T183000
DTSTAMP:20260420T112410
CREATED:20190829T144849Z
LAST-MODIFIED:20190829T144849Z
UID:6805-1567704600-1567708200@ptboro.com
SUMMARY:Mayor's Hours
DESCRIPTION:Come speak to Mayor Sabosik one-on-one and bring him any of your concerns\, issues or suggestions.  First come\, first served\, no appointments are necessary.
URL:https://ptboro.com/event/mayors-hours-4/
LOCATION:Courtoom\, Borough Hall\, 2233 Bridge Avenue\, Point Pleasant\, NJ\, 08742
CATEGORIES:Borough Events
END:VEVENT
BEGIN:VEVENT
DTSTART;TZID=America/New_York:20190909T190000
DTEND;TZID=America/New_York:20190909T210000
DTSTAMP:20260420T112410
CREATED:20190829T145014Z
LAST-MODIFIED:20190829T145014Z
UID:6806-1568055600-1568062800@ptboro.com
SUMMARY:Council Meeting
DESCRIPTION:
URL:https://ptboro.com/event/council-meeting-7/
LOCATION:Courtoom\, Borough Hall\, 2233 Bridge Avenue\, Point Pleasant\, NJ\, 08742
CATEGORIES:Borough Events
END:VEVENT
BEGIN:VEVENT
DTSTART;TZID=America/New_York:20190911T190000
DTEND;TZID=America/New_York:20190911T210000
DTSTAMP:20260420T112410
CREATED:20190829T145108Z
LAST-MODIFIED:20190829T145108Z
UID:6807-1568228400-1568235600@ptboro.com
SUMMARY:Zoning Board Meeting
DESCRIPTION:
URL:https://ptboro.com/event/zoning-board-meeting-6/
LOCATION:Courtoom\, Borough Hall\, 2233 Bridge Avenue\, Point Pleasant\, NJ\, 08742
CATEGORIES:Borough Events
END:VEVENT
BEGIN:VEVENT
DTSTART;TZID=America/New_York:20190923T190000
DTEND;TZID=America/New_York:20190923T210000
DTSTAMP:20260420T112410
CREATED:20190829T145201Z
LAST-MODIFIED:20190829T145201Z
UID:6808-1569265200-1569272400@ptboro.com
SUMMARY:Council Meeting
DESCRIPTION:
URL:https://ptboro.com/event/council-meeting-8/
LOCATION:Courtoom\, Borough Hall\, 2233 Bridge Avenue\, Point Pleasant\, NJ\, 08742
CATEGORIES:Borough Events
END:VEVENT
BEGIN:VEVENT
DTSTART;TZID=America/New_York:20190925T190000
DTEND;TZID=America/New_York:20190925T210000
DTSTAMP:20260420T112410
CREATED:20190829T145252Z
LAST-MODIFIED:20190829T145252Z
UID:6809-1569438000-1569445200@ptboro.com
SUMMARY:Zoning Board Meeting
DESCRIPTION:
URL:https://ptboro.com/event/zoning-board-meeting-7/
LOCATION:Courtoom\, Borough Hall\, 2233 Bridge Avenue\, Point Pleasant\, NJ\, 08742
CATEGORIES:Borough Events
END:VEVENT
BEGIN:VEVENT
DTSTART;TZID=America/New_York:20190926T190000
DTEND;TZID=America/New_York:20190926T210000
DTSTAMP:20260420T112410
CREATED:20190829T145340Z
LAST-MODIFIED:20190829T145340Z
UID:6810-1569524400-1569531600@ptboro.com
SUMMARY:Planning Board Meeting
DESCRIPTION:
URL:https://ptboro.com/event/planning-board-meeting-3/
LOCATION:Courtoom\, Borough Hall\, 2233 Bridge Avenue\, Point Pleasant\, NJ\, 08742
CATEGORIES:Borough Events
END:VEVENT
END:VCALENDAR