BEGIN:VCALENDAR
VERSION:2.0
PRODID:-//Borough of Point Pleasant - ECPv6.6.4.2//NONSGML v1.0//EN
CALSCALE:GREGORIAN
METHOD:PUBLISH
X-WR-CALNAME:Borough of Point Pleasant
X-ORIGINAL-URL:https://ptboro.com
X-WR-CALDESC:Events for Borough of Point Pleasant
REFRESH-INTERVAL;VALUE=DURATION:PT1H
X-Robots-Tag:noindex
X-PUBLISHED-TTL:PT1H
BEGIN:VTIMEZONE
TZID:America/New_York
BEGIN:DAYLIGHT
TZOFFSETFROM:-0500
TZOFFSETTO:-0400
TZNAME:EDT
DTSTART:20190310T070000
END:DAYLIGHT
BEGIN:STANDARD
TZOFFSETFROM:-0400
TZOFFSETTO:-0500
TZNAME:EST
DTSTART:20191103T060000
END:STANDARD
END:VTIMEZONE
BEGIN:VEVENT
DTSTART;TZID=America/New_York:20191113T190000
DTEND;TZID=America/New_York:20191113T220000
DTSTAMP:20260420T152944
CREATED:20191105T150012Z
LAST-MODIFIED:20191105T150012Z
UID:6883-1573671600-1573682400@ptboro.com
SUMMARY:Zoning Board Meeting
DESCRIPTION:
URL:https://ptboro.com/event/zoning-board-meeting-10/
LOCATION:Borough Hall\, 2233 Bridge Avenue\, Point Pleasant\, NJ\, 08742
CATEGORIES:Borough Events
END:VEVENT
BEGIN:VEVENT
DTSTART;TZID=America/New_York:20191117T100000
DTEND;TZID=America/New_York:20191117T120000
DTSTAMP:20260420T152944
CREATED:20191105T152946Z
LAST-MODIFIED:20191105T152946Z
UID:6888-1573984800-1573992000@ptboro.com
SUMMARY:Free Rabies Clinic
DESCRIPTION:
URL:https://ptboro.com/event/free-rabies-clinic/
LOCATION:First Aid Building\, 1200 Beaver Dam Road\, Point Pleasant\, NJ\, 08742\, United States
CATEGORIES:Borough Events
END:VEVENT
BEGIN:VEVENT
DTSTART;TZID=America/New_York:20191125T190000
DTEND;TZID=America/New_York:20191125T210000
DTSTAMP:20260420T152944
CREATED:20191105T150102Z
LAST-MODIFIED:20191105T150102Z
UID:6884-1574708400-1574715600@ptboro.com
SUMMARY:Council Meeting
DESCRIPTION:
URL:https://ptboro.com/event/council-meeting-10/
LOCATION:Borough Hall\, 2233 Bridge Avenue\, Point Pleasant\, NJ\, 08742
CATEGORIES:Borough Events
END:VEVENT
BEGIN:VEVENT
DTSTART;TZID=America/New_York:20191127T190000
DTEND;TZID=America/New_York:20191127T210000
DTSTAMP:20260420T152944
CREATED:20191105T152446Z
LAST-MODIFIED:20191105T152446Z
UID:6885-1574881200-1574888400@ptboro.com
SUMMARY:Zoning Board Meeting
DESCRIPTION:
URL:https://ptboro.com/event/zoning-board-meeting-11/
LOCATION:Borough Hall\, 2233 Bridge Avenue\, Point Pleasant\, NJ\, 08742
CATEGORIES:Borough Events
END:VEVENT
END:VCALENDAR