BEGIN:VCALENDAR
VERSION:2.0
PRODID:-//Borough of Point Pleasant - ECPv6.6.4.2//NONSGML v1.0//EN
CALSCALE:GREGORIAN
METHOD:PUBLISH
X-ORIGINAL-URL:https://ptboro.com
X-WR-CALDESC:Events for Borough of Point Pleasant
REFRESH-INTERVAL;VALUE=DURATION:PT1H
X-Robots-Tag:noindex
X-PUBLISHED-TTL:PT1H
BEGIN:VTIMEZONE
TZID:America/New_York
BEGIN:DAYLIGHT
TZOFFSETFROM:-0500
TZOFFSETTO:-0400
TZNAME:EDT
DTSTART:20260308T070000
END:DAYLIGHT
BEGIN:STANDARD
TZOFFSETFROM:-0400
TZOFFSETTO:-0500
TZNAME:EST
DTSTART:20261101T060000
END:STANDARD
END:VTIMEZONE
BEGIN:VEVENT
DTSTART;TZID=America/New_York:20260211T190000
DTEND;TZID=America/New_York:20260211T210000
DTSTAMP:20260420T080837
CREATED:20260203T203853Z
LAST-MODIFIED:20260203T203853Z
UID:9452-1770836400-1770843600@ptboro.com
SUMMARY:Zoning Board Meeting
DESCRIPTION:
URL:https://ptboro.com/event/zoning-board-meeting-108/
LOCATION:Courtoom\, Borough Hall\, 2233 Bridge Avenue\, Point Pleasant\, NJ\, 08742
CATEGORIES:Borough Events
END:VEVENT
BEGIN:VEVENT
DTSTART;TZID=America/New_York:20260217T173000
DTEND;TZID=America/New_York:20260217T183000
DTSTAMP:20260420T080837
CREATED:20260203T203941Z
LAST-MODIFIED:20260203T203941Z
UID:9453-1771349400-1771353000@ptboro.com
SUMMARY:Mayor's Hours
DESCRIPTION:
URL:https://ptboro.com/event/mayors-hours-43/
LOCATION:Courtoom\, Borough Hall\, 2233 Bridge Avenue\, Point Pleasant\, NJ\, 08742
CATEGORIES:Borough Events
END:VEVENT
BEGIN:VEVENT
DTSTART;TZID=America/New_York:20260217T190000
DTEND;TZID=America/New_York:20260217T200000
DTSTAMP:20260420T080837
CREATED:20260203T204248Z
LAST-MODIFIED:20260203T204248Z
UID:9457-1771354800-1771358400@ptboro.com
SUMMARY:Environmental Commission Meeting
DESCRIPTION:
URL:https://ptboro.com/event/environmental-commission-meeting-47/
LOCATION:Courtoom\, Borough Hall\, 2233 Bridge Avenue\, Point Pleasant\, NJ\, 08742
CATEGORIES:Borough Events
END:VEVENT
BEGIN:VEVENT
DTSTART;TZID=America/New_York:20260223T190000
DTEND;TZID=America/New_York:20260223T210000
DTSTAMP:20260420T080837
CREATED:20260203T204024Z
LAST-MODIFIED:20260223T151246Z
UID:9454-1771873200-1771880400@ptboro.com
SUMMARY:Council Meeting - cancelled due to blizzard
DESCRIPTION:Council Meeting Cancelled due to blizzard.  Moved to Thursday at 5:30PM
URL:https://ptboro.com/event/council-meeting-94/
LOCATION:Courtoom\, Borough Hall\, 2233 Bridge Avenue\, Point Pleasant\, NJ\, 08742
CATEGORIES:Borough Events
END:VEVENT
BEGIN:VEVENT
DTSTART;TZID=America/New_York:20260225T190000
DTEND;TZID=America/New_York:20260225T210000
DTSTAMP:20260420T080837
CREATED:20260203T204058Z
LAST-MODIFIED:20260203T204058Z
UID:9455-1772046000-1772053200@ptboro.com
SUMMARY:Zoning Board
DESCRIPTION:
URL:https://ptboro.com/event/zoning-board-14/
LOCATION:Courtoom\, Borough Hall\, 2233 Bridge Avenue\, Point Pleasant\, NJ\, 08742
CATEGORIES:Borough Events
END:VEVENT
BEGIN:VEVENT
DTSTART;TZID=America/New_York:20260226T173000
DTEND;TZID=America/New_York:20260226T190000
DTSTAMP:20260420T080837
CREATED:20260223T151421Z
LAST-MODIFIED:20260223T151523Z
UID:10088-1772127000-1772132400@ptboro.com
SUMMARY:Council Meeting
DESCRIPTION:Rescheduled to this time due to Monday’s blizzard.
URL:https://ptboro.com/event/council-meeting-95/
LOCATION:Courtoom\, Borough Hall\, 2233 Bridge Avenue\, Point Pleasant\, NJ\, 08742
CATEGORIES:Borough Events
END:VEVENT
BEGIN:VEVENT
DTSTART;TZID=America/New_York:20260226T190000
DTEND;TZID=America/New_York:20260226T210000
DTSTAMP:20260420T080837
CREATED:20260203T204135Z
LAST-MODIFIED:20260203T204135Z
UID:9456-1772132400-1772139600@ptboro.com
SUMMARY:Planning Board
DESCRIPTION:
URL:https://ptboro.com/event/planning-board-9/
LOCATION:Courtoom\, Borough Hall\, 2233 Bridge Avenue\, Point Pleasant\, NJ\, 08742
CATEGORIES:Borough Events
END:VEVENT
END:VCALENDAR