BEGIN:VCALENDAR
VERSION:2.0
PRODID:-//Borough of Point Pleasant - ECPv6.6.4.2//NONSGML v1.0//EN
CALSCALE:GREGORIAN
METHOD:PUBLISH
X-WR-CALNAME:Borough of Point Pleasant
X-ORIGINAL-URL:https://ptboro.com
X-WR-CALDESC:Events for Borough of Point Pleasant
REFRESH-INTERVAL;VALUE=DURATION:PT1H
X-Robots-Tag:noindex
X-PUBLISHED-TTL:PT1H
BEGIN:VTIMEZONE
TZID:America/New_York
BEGIN:DAYLIGHT
TZOFFSETFROM:-0500
TZOFFSETTO:-0400
TZNAME:EDT
DTSTART:20190310T070000
END:DAYLIGHT
BEGIN:STANDARD
TZOFFSETFROM:-0400
TZOFFSETTO:-0500
TZNAME:EST
DTSTART:20191103T060000
END:STANDARD
END:VTIMEZONE
BEGIN:VEVENT
DTSTART;TZID=America/New_York:20190418T173000
DTEND;TZID=America/New_York:20190418T183000
DTSTAMP:20260420T140420
CREATED:20190403T133812Z
LAST-MODIFIED:20190403T133812Z
UID:6594-1555608600-1555612200@ptboro.com
SUMMARY:Mayor's Hours
DESCRIPTION:Have a question or suggestion and would like to speak to Mayor Sabosik one on one?  Then come to Mayor’s Hours\, no appointment is necessary\, first come first served.
URL:https://ptboro.com/event/mayors-hours/
LOCATION:Courtoom\, Borough Hall\, 2233 Bridge Avenue\, Point Pleasant\, NJ\, 08742
CATEGORIES:Borough Events
END:VEVENT
END:VCALENDAR