BEGIN:VCALENDAR
VERSION:2.0
PRODID:-//Borough of Point Pleasant - ECPv6.6.4.2//NONSGML v1.0//EN
CALSCALE:GREGORIAN
METHOD:PUBLISH
X-ORIGINAL-URL:https://ptboro.com
X-WR-CALDESC:Events for Borough of Point Pleasant
REFRESH-INTERVAL;VALUE=DURATION:PT1H
X-Robots-Tag:noindex
X-PUBLISHED-TTL:PT1H
BEGIN:VTIMEZONE
TZID:America/New_York
BEGIN:DAYLIGHT
TZOFFSETFROM:-0500
TZOFFSETTO:-0400
TZNAME:EDT
DTSTART:20190310T070000
END:DAYLIGHT
BEGIN:STANDARD
TZOFFSETFROM:-0400
TZOFFSETTO:-0500
TZNAME:EST
DTSTART:20191103T060000
END:STANDARD
END:VTIMEZONE
BEGIN:VEVENT
DTSTART;TZID=America/New_York:20191027T120000
DTEND;TZID=America/New_York:20191027T150000
DTSTAMP:20260420T150613
CREATED:20191001T191249Z
LAST-MODIFIED:20191001T191249Z
UID:6844-1572177600-1572188400@ptboro.com
SUMMARY:Halloween Parade
DESCRIPTION:On Bridge Avenue
URL:https://ptboro.com/event/halloween-parade/
LOCATION:NJ
CATEGORIES:Borough Events
END:VEVENT
END:VCALENDAR