BEGIN:VCALENDAR
VERSION:2.0
PRODID:-//Borough of Point Pleasant - ECPv6.6.4.2//NONSGML v1.0//EN
CALSCALE:GREGORIAN
METHOD:PUBLISH
X-WR-CALNAME:Borough of Point Pleasant
X-ORIGINAL-URL:https://ptboro.com
X-WR-CALDESC:Events for Borough of Point Pleasant
REFRESH-INTERVAL;VALUE=DURATION:PT1H
X-Robots-Tag:noindex
X-PUBLISHED-TTL:PT1H
BEGIN:VTIMEZONE
TZID:America/New_York
BEGIN:DAYLIGHT
TZOFFSETFROM:-0500
TZOFFSETTO:-0400
TZNAME:EDT
DTSTART:20240310T070000
END:DAYLIGHT
BEGIN:STANDARD
TZOFFSETFROM:-0400
TZOFFSETTO:-0500
TZNAME:EST
DTSTART:20241103T060000
END:STANDARD
END:VTIMEZONE
BEGIN:VEVENT
DTSTART;TZID=America/New_York:20241028T190000
DTEND;TZID=America/New_York:20241028T210000
DTSTAMP:20260422T095009
CREATED:20241007T145113Z
LAST-MODIFIED:20241007T145113Z
UID:8918-1730142000-1730149200@ptboro.com
SUMMARY:Council Meeting
DESCRIPTION:
URL:https://ptboro.com/event/council-meeting-79/
LOCATION:Courtoom\, Borough Hall\, 2233 Bridge Avenue\, Point Pleasant\, NJ\, 08742
CATEGORIES:Borough Events
END:VEVENT
BEGIN:VEVENT
DTSTART;TZID=America/New_York:20241022T170000
DTEND;TZID=America/New_York:20241022T190000
DTSTAMP:20260422T095009
CREATED:20241007T145037Z
LAST-MODIFIED:20241007T145037Z
UID:8917-1729616400-1729623600@ptboro.com
SUMMARY:Trunk or Treat
DESCRIPTION:
URL:https://ptboro.com/event/trunk-or-treat-2/
LOCATION:Community Park\, Corner of Bridge Avenue and Beaver Dam Roan\, Point Pleasant\, NJ\, 08742
CATEGORIES:Borough Events
END:VEVENT
BEGIN:VEVENT
DTSTART;TZID=America/New_York:20241017T170000
DTEND;TZID=America/New_York:20241017T210000
DTSTAMP:20260422T095009
CREATED:20241007T144955Z
LAST-MODIFIED:20241007T144955Z
UID:8916-1729184400-1729198800@ptboro.com
SUMMARY:Haunts in the Park
DESCRIPTION:
URL:https://ptboro.com/event/haunts-in-the-park-5/
LOCATION:Community Park\, Corner of Bridge Avenue and Beaver Dam Roan\, Point Pleasant\, NJ\, 08742
CATEGORIES:Borough Events
END:VEVENT
BEGIN:VEVENT
DTSTART;TZID=America/New_York:20241015T190000
DTEND;TZID=America/New_York:20241015T200000
DTSTAMP:20260422T095009
CREATED:20241007T144918Z
LAST-MODIFIED:20241007T144918Z
UID:8915-1729018800-1729022400@ptboro.com
SUMMARY:Environmental Commission Meeting
DESCRIPTION:
URL:https://ptboro.com/event/environmental-commission-meeting-32/
LOCATION:Courtoom\, Borough Hall\, 2233 Bridge Avenue\, Point Pleasant\, NJ\, 08742
CATEGORIES:Borough Events
END:VEVENT
BEGIN:VEVENT
DTSTART;TZID=America/New_York:20241012T170000
DTEND;TZID=America/New_York:20241012T210000
DTSTAMP:20260422T095009
CREATED:20241007T144842Z
LAST-MODIFIED:20241007T144842Z
UID:8914-1728752400-1728766800@ptboro.com
SUMMARY:Fall Fireworks Festival
DESCRIPTION:
URL:https://ptboro.com/event/fall-fireworks-festival-3/
LOCATION:River Front Park\, Point Pleasant\, NJ\, 08742
CATEGORIES:Borough Events
END:VEVENT
BEGIN:VEVENT
DTSTART;TZID=America/New_York:20241010T190000
DTEND;TZID=America/New_York:20241010T210000
DTSTAMP:20260422T095009
CREATED:20241007T144802Z
LAST-MODIFIED:20241007T144802Z
UID:8913-1728586800-1728594000@ptboro.com
SUMMARY:Planning Board Meeting
DESCRIPTION:
URL:https://ptboro.com/event/planning-board-meeting-55/
LOCATION:Courtoom\, Borough Hall\, 2233 Bridge Avenue\, Point Pleasant\, NJ\, 08742
CATEGORIES:Borough Events
END:VEVENT
BEGIN:VEVENT
DTSTART;TZID=America/New_York:20241010T173000
DTEND;TZID=America/New_York:20241010T183000
DTSTAMP:20260422T095009
CREATED:20241007T144723Z
LAST-MODIFIED:20241007T144723Z
UID:8912-1728581400-1728585000@ptboro.com
SUMMARY:Mayor's Hours
DESCRIPTION:
URL:https://ptboro.com/event/mayors-hours-35/
LOCATION:Courtoom\, Borough Hall\, 2233 Bridge Avenue\, Point Pleasant\, NJ\, 08742
CATEGORIES:Borough Events
END:VEVENT
BEGIN:VEVENT
DTSTART;TZID=America/New_York:20241009T190000
DTEND;TZID=America/New_York:20241009T210000
DTSTAMP:20260422T095009
CREATED:20241007T144643Z
LAST-MODIFIED:20241007T144643Z
UID:8911-1728500400-1728507600@ptboro.com
SUMMARY:Zoning Board Meeting
DESCRIPTION:
URL:https://ptboro.com/event/zoning-board-meeting-93/
LOCATION:Courtoom\, Borough Hall\, 2233 Bridge Avenue\, Point Pleasant\, NJ\, 08742
CATEGORIES:Borough Events
END:VEVENT
BEGIN:VEVENT
DTSTART;TZID=America/New_York:20240926T190000
DTEND;TZID=America/New_York:20240926T210000
DTSTAMP:20260422T095009
CREATED:20240912T235921Z
LAST-MODIFIED:20240912T235921Z
UID:8885-1727377200-1727384400@ptboro.com
SUMMARY:Planning Board Meeting
DESCRIPTION:
URL:https://ptboro.com/event/planning-board-meeting-54/
LOCATION:Courtoom\, Borough Hall\, 2233 Bridge Avenue\, Point Pleasant\, NJ\, 08742
CATEGORIES:Borough Events
END:VEVENT
BEGIN:VEVENT
DTSTART;TZID=America/New_York:20240923T190000
DTEND;TZID=America/New_York:20240923T210000
DTSTAMP:20260422T095009
CREATED:20240912T235816Z
LAST-MODIFIED:20240912T235816Z
UID:8883-1727118000-1727125200@ptboro.com
SUMMARY:Council Meeting
DESCRIPTION:
URL:https://ptboro.com/event/council-meeting-78/
LOCATION:Courtoom\, Borough Hall\, 2233 Bridge Avenue\, Point Pleasant\, NJ\, 08742
CATEGORIES:Borough Events
END:VEVENT
BEGIN:VEVENT
DTSTART;TZID=America/New_York:20240918T173000
DTEND;TZID=America/New_York:20240918T183000
DTSTAMP:20260422T095009
CREATED:20240912T235651Z
LAST-MODIFIED:20240912T235651Z
UID:8882-1726680600-1726684200@ptboro.com
SUMMARY:Mayor's Hours
DESCRIPTION:
URL:https://ptboro.com/event/mayors-hours-34/
LOCATION:Courtoom\, Borough Hall\, 2233 Bridge Avenue\, Point Pleasant\, NJ\, 08742
CATEGORIES:Borough Events
END:VEVENT
BEGIN:VEVENT
DTSTART;TZID=America/New_York:20240917T190000
DTEND;TZID=America/New_York:20240917T200000
DTSTAMP:20260422T095009
CREATED:20240913T000013Z
LAST-MODIFIED:20240913T000013Z
UID:8886-1726599600-1726603200@ptboro.com
SUMMARY:Environmental Commission Meeting
DESCRIPTION:
URL:https://ptboro.com/event/environmental-commission-meeting-31/
LOCATION:Courtoom\, Borough Hall\, 2233 Bridge Avenue\, Point Pleasant\, NJ\, 08742
CATEGORIES:Borough Events
END:VEVENT
BEGIN:VEVENT
DTSTART;TZID=America/New_York:20240911T190000
DTEND;TZID=America/New_York:20240911T210000
DTSTAMP:20260422T095009
CREATED:20240912T235849Z
LAST-MODIFIED:20240912T235849Z
UID:8884-1726081200-1726088400@ptboro.com
SUMMARY:Zoning Board Meeting
DESCRIPTION:
URL:https://ptboro.com/event/zoning-board-meeting-92/
LOCATION:Courtoom\, Borough Hall\, 2233 Bridge Avenue\, Point Pleasant\, NJ\, 08742
CATEGORIES:Borough Events
END:VEVENT
BEGIN:VEVENT
DTSTART;TZID=America/New_York:20240828T190000
DTEND;TZID=America/New_York:20240828T210000
DTSTAMP:20260422T095009
CREATED:20240806T174144Z
LAST-MODIFIED:20240806T174144Z
UID:8856-1724871600-1724878800@ptboro.com
SUMMARY:Zoning Board Meeting
DESCRIPTION:
URL:https://ptboro.com/event/zoning-board-meeting-91/
LOCATION:Courtoom\, Borough Hall\, 2233 Bridge Avenue\, Point Pleasant\, NJ\, 08742
CATEGORIES:Borough Events
END:VEVENT
BEGIN:VEVENT
DTSTART;TZID=America/New_York:20240826T190000
DTEND;TZID=America/New_York:20240826T210000
DTSTAMP:20260422T095009
CREATED:20240806T174103Z
LAST-MODIFIED:20240806T174103Z
UID:8855-1724698800-1724706000@ptboro.com
SUMMARY:Council Meeting
DESCRIPTION:
URL:https://ptboro.com/event/council-meeting-77/
LOCATION:Courtoom\, Borough Hall\, 2233 Bridge Avenue\, Point Pleasant\, NJ\, 08742
CATEGORIES:Borough Events
END:VEVENT
BEGIN:VEVENT
DTSTART;TZID=America/New_York:20240822T190000
DTEND;TZID=America/New_York:20240822T210000
DTSTAMP:20260422T095009
CREATED:20240806T174027Z
LAST-MODIFIED:20240806T174027Z
UID:8854-1724353200-1724360400@ptboro.com
SUMMARY:Planning Board Meeting
DESCRIPTION:
URL:https://ptboro.com/event/planning-board-meeting-53/
LOCATION:Courtoom\, Borough Hall\, 2233 Bridge Avenue\, Point Pleasant\, NJ\, 08742
CATEGORIES:Borough Events
END:VEVENT
BEGIN:VEVENT
DTSTART;TZID=America/New_York:20240820T190000
DTEND;TZID=America/New_York:20240820T200000
DTSTAMP:20260422T095009
CREATED:20240806T173952Z
LAST-MODIFIED:20240806T173952Z
UID:8853-1724180400-1724184000@ptboro.com
SUMMARY:Environmental Commission Meeting
DESCRIPTION:
URL:https://ptboro.com/event/environmental-commission-meeting-30/
LOCATION:Courtoom\, Borough Hall\, 2233 Bridge Avenue\, Point Pleasant\, NJ\, 08742
CATEGORIES:Borough Events
END:VEVENT
BEGIN:VEVENT
DTSTART;TZID=America/New_York:20240819T173000
DTEND;TZID=America/New_York:20240819T183000
DTSTAMP:20260422T095009
CREATED:20240807T185422Z
LAST-MODIFIED:20240807T205138Z
UID:8859-1724088600-1724092200@ptboro.com
SUMMARY:Mayor's Hours
DESCRIPTION:
URL:https://ptboro.com/event/mayors-hours-33/
LOCATION:Courtoom\, Borough Hall\, 2233 Bridge Avenue\, Point Pleasant\, NJ\, 08742
CATEGORIES:Borough Events
END:VEVENT
BEGIN:VEVENT
DTSTART;TZID=America/New_York:20240814T190000
DTEND;TZID=America/New_York:20240814T210000
DTSTAMP:20260422T095009
CREATED:20240806T173912Z
LAST-MODIFIED:20240806T173912Z
UID:8852-1723662000-1723669200@ptboro.com
SUMMARY:Zoning Board Meeting
DESCRIPTION:
URL:https://ptboro.com/event/zoning-board-meeting-90/
LOCATION:Courtoom\, Borough Hall\, 2233 Bridge Avenue\, Point Pleasant\, NJ\, 08742
CATEGORIES:Borough Events
END:VEVENT
BEGIN:VEVENT
DTSTART;TZID=America/New_York:20240725T190000
DTEND;TZID=America/New_York:20240725T210000
DTSTAMP:20260422T095009
CREATED:20240702T165731Z
LAST-MODIFIED:20240702T165731Z
UID:8819-1721934000-1721941200@ptboro.com
SUMMARY:Planning Board Meeting
DESCRIPTION:
URL:https://ptboro.com/event/planning-board-meeting-52/
LOCATION:Courtoom\, Borough Hall\, 2233 Bridge Avenue\, Point Pleasant\, NJ\, 08742
CATEGORIES:Borough Events
END:VEVENT
BEGIN:VEVENT
DTSTART;TZID=America/New_York:20240715T190000
DTEND;TZID=America/New_York:20240715T210000
DTSTAMP:20260422T095009
CREATED:20240702T142050Z
LAST-MODIFIED:20240702T142050Z
UID:8817-1721070000-1721077200@ptboro.com
SUMMARY:Council Meeting
DESCRIPTION:
URL:https://ptboro.com/event/council-meeting-76/
LOCATION:Courtoom\, Borough Hall\, 2233 Bridge Avenue\, Point Pleasant\, NJ\, 08742
CATEGORIES:Borough Events
END:VEVENT
BEGIN:VEVENT
DTSTART;TZID=America/New_York:20240710T190000
DTEND;TZID=America/New_York:20240710T210000
DTSTAMP:20260422T095009
CREATED:20240702T143706Z
LAST-MODIFIED:20240702T143706Z
UID:8818-1720638000-1720645200@ptboro.com
SUMMARY:Zoning Board Meeting
DESCRIPTION:
URL:https://ptboro.com/event/zoning-board-meeting-89/
LOCATION:Courtoom\, Borough Hall\, 2233 Bridge Avenue\, Point Pleasant\, NJ\, 08742
CATEGORIES:Borough Events
END:VEVENT
BEGIN:VEVENT
DTSTART;TZID=America/New_York:20240709T173000
DTEND;TZID=America/New_York:20240709T183000
DTSTAMP:20260422T095009
CREATED:20240702T142001Z
LAST-MODIFIED:20240702T142001Z
UID:8816-1720546200-1720549800@ptboro.com
SUMMARY:Mayor's Hours
DESCRIPTION:
URL:https://ptboro.com/event/mayors-hours-32/
LOCATION:Courtoom\, Borough Hall\, 2233 Bridge Avenue\, Point Pleasant\, NJ\, 08742
CATEGORIES:Borough Events
END:VEVENT
BEGIN:VEVENT
DTSTART;TZID=America/New_York:20240627T190000
DTEND;TZID=America/New_York:20240627T210000
DTSTAMP:20260422T095009
CREATED:20240603T193440Z
LAST-MODIFIED:20240603T193505Z
UID:8799-1719514800-1719522000@ptboro.com
SUMMARY:Planning Board
DESCRIPTION:
URL:https://ptboro.com/event/planning-board-8/
LOCATION:Borough Hall\, 2233 Bridge Avenue\, Point Pleasant\, NJ\, 08742
CATEGORIES:Borough Events
END:VEVENT
BEGIN:VEVENT
DTSTART;TZID=America/New_York:20240626T190000
DTEND;TZID=America/New_York:20240626T210000
DTSTAMP:20260422T095009
CREATED:20240603T193248Z
LAST-MODIFIED:20240603T193248Z
UID:8798-1719428400-1719435600@ptboro.com
SUMMARY:Zoning Board
DESCRIPTION:
URL:https://ptboro.com/event/zoning-board-13/
LOCATION:Borough Hall\, 2233 Bridge Avenue\, Point Pleasant\, NJ\, 08742
CATEGORIES:Borough Events
END:VEVENT
BEGIN:VEVENT
DTSTART;TZID=America/New_York:20240612T190000
DTEND;TZID=America/New_York:20240612T210000
DTSTAMP:20260422T095009
CREATED:20240603T193049Z
LAST-MODIFIED:20240603T193049Z
UID:8797-1718218800-1718226000@ptboro.com
SUMMARY:Zoning Board
DESCRIPTION:
URL:https://ptboro.com/event/zoning-board-12/
LOCATION:Borough Hall\, 2233 Bridge Avenue\, Point Pleasant\, NJ\, 08742
CATEGORIES:Borough Events
END:VEVENT
BEGIN:VEVENT
DTSTART;TZID=America/New_York:20240610T190000
DTEND;TZID=America/New_York:20240610T210000
DTSTAMP:20260422T095009
CREATED:20240603T192817Z
LAST-MODIFIED:20240603T192817Z
UID:8796-1718046000-1718053200@ptboro.com
SUMMARY:Council Meeting
DESCRIPTION:
URL:https://ptboro.com/event/council-meeting-75/
LOCATION:Borough Hall\, 2233 Bridge Avenue\, Point Pleasant\, NJ\, 08742
CATEGORIES:Borough Events
END:VEVENT
BEGIN:VEVENT
DTSTART;TZID=America/New_York:20240607T173000
DTEND;TZID=America/New_York:20240607T180000
DTSTAMP:20260422T095009
CREATED:20240603T192340Z
LAST-MODIFIED:20240603T192628Z
UID:8795-1717781400-1717783200@ptboro.com
SUMMARY:Mayor's Hours
DESCRIPTION:
URL:https://ptboro.com/event/mayors-hours-31/
LOCATION:Borough Hall\, 2233 Bridge Avenue\, Point Pleasant\, NJ\, 08742
CATEGORIES:Borough Events
END:VEVENT
BEGIN:VEVENT
DTSTART;TZID=America/New_York:20240527T113000
DTEND;TZID=America/New_York:20240527T123000
DTSTAMP:20260422T095009
CREATED:20240501T145416Z
LAST-MODIFIED:20240501T145416Z
UID:8764-1716809400-1716813000@ptboro.com
SUMMARY:Memorial Day Ceremony
DESCRIPTION:
URL:https://ptboro.com/event/memorial-day-ceremony-5/
LOCATION:Community Park\, Corner of Bridge Avenue and Beaver Dam Roan\, Point Pleasant\, NJ\, 08742
CATEGORIES:Borough Events
END:VEVENT
BEGIN:VEVENT
DTSTART;TZID=America/New_York:20240523T190000
DTEND;TZID=America/New_York:20240523T210000
DTSTAMP:20260422T095009
CREATED:20240501T145217Z
LAST-MODIFIED:20240501T145217Z
UID:8763-1716490800-1716498000@ptboro.com
SUMMARY:Planning Board Meeting
DESCRIPTION:
URL:https://ptboro.com/event/planning-board-meeting-51/
LOCATION:Courtoom\, Borough Hall\, 2233 Bridge Avenue\, Point Pleasant\, NJ\, 08742
CATEGORIES:Borough Events
END:VEVENT
END:VCALENDAR