BEGIN:VCALENDAR
VERSION:2.0
PRODID:-//Borough of Point Pleasant - ECPv6.6.4.2//NONSGML v1.0//EN
CALSCALE:GREGORIAN
METHOD:PUBLISH
X-WR-CALNAME:Borough of Point Pleasant
X-ORIGINAL-URL:https://ptboro.com
X-WR-CALDESC:Events for Borough of Point Pleasant
REFRESH-INTERVAL;VALUE=DURATION:PT1H
X-Robots-Tag:noindex
X-PUBLISHED-TTL:PT1H
BEGIN:VTIMEZONE
TZID:America/New_York
BEGIN:DAYLIGHT
TZOFFSETFROM:-0500
TZOFFSETTO:-0400
TZNAME:EDT
DTSTART:20240310T070000
END:DAYLIGHT
BEGIN:STANDARD
TZOFFSETFROM:-0400
TZOFFSETTO:-0500
TZNAME:EST
DTSTART:20241103T060000
END:STANDARD
BEGIN:DAYLIGHT
TZOFFSETFROM:-0500
TZOFFSETTO:-0400
TZNAME:EDT
DTSTART:20250309T070000
END:DAYLIGHT
BEGIN:STANDARD
TZOFFSETFROM:-0400
TZOFFSETTO:-0500
TZNAME:EST
DTSTART:20251102T060000
END:STANDARD
END:VTIMEZONE
BEGIN:VEVENT
DTSTART;TZID=America/New_York:20250310T190000
DTEND;TZID=America/New_York:20250310T210000
DTSTAMP:20260423T080627
CREATED:20250305T153324Z
LAST-MODIFIED:20250305T153324Z
UID:9063-1741633200-1741640400@ptboro.com
SUMMARY:Council Meeting
DESCRIPTION:
URL:https://ptboro.com/event/council-meeting-84/
LOCATION:Courtoom\, Borough Hall\, 2233 Bridge Avenue\, Point Pleasant\, NJ\, 08742
CATEGORIES:Borough Events
END:VEVENT
BEGIN:VEVENT
DTSTART;TZID=America/New_York:20250227T190000
DTEND;TZID=America/New_York:20250227T210000
DTSTAMP:20260423T080627
CREATED:20250218T150412Z
LAST-MODIFIED:20250218T150412Z
UID:9047-1740682800-1740690000@ptboro.com
SUMMARY:Planning Board Meeting
DESCRIPTION:
URL:https://ptboro.com/event/planning-board-meeting-58/
LOCATION:Courtoom\, Borough Hall\, 2233 Bridge Avenue\, Point Pleasant\, NJ\, 08742
CATEGORIES:Borough Events
END:VEVENT
BEGIN:VEVENT
DTSTART;TZID=America/New_York:20250226T190000
DTEND;TZID=America/New_York:20250226T210000
DTSTAMP:20260423T080627
CREATED:20250218T150333Z
LAST-MODIFIED:20250218T150333Z
UID:9046-1740596400-1740603600@ptboro.com
SUMMARY:Zoning Board Meeting
DESCRIPTION:
URL:https://ptboro.com/event/zoning-board-meeting-96/
LOCATION:Courtoom\, Borough Hall\, 2233 Bridge Avenue\, Point Pleasant\, NJ\, 08742
CATEGORIES:Borough Events
END:VEVENT
BEGIN:VEVENT
DTSTART;TZID=America/New_York:20250224T190000
DTEND;TZID=America/New_York:20250224T210000
DTSTAMP:20260423T080627
CREATED:20250218T150130Z
LAST-MODIFIED:20250218T150130Z
UID:9045-1740423600-1740430800@ptboro.com
SUMMARY:Council Meeting
DESCRIPTION:
URL:https://ptboro.com/event/council-meeting-83/
LOCATION:Courtoom\, Borough Hall\, 2233 Bridge Avenue\, Point Pleasant\, NJ\, 08742
CATEGORIES:Borough Events
END:VEVENT
BEGIN:VEVENT
DTSTART;TZID=America/New_York:20250219T173000
DTEND;TZID=America/New_York:20250219T183000
DTSTAMP:20260423T080627
CREATED:20250218T150038Z
LAST-MODIFIED:20250218T150038Z
UID:9044-1739986200-1739989800@ptboro.com
SUMMARY:Mayor's Hours
DESCRIPTION:
URL:https://ptboro.com/event/mayors-hours-36/
LOCATION:Courtoom\, Borough Hall\, 2233 Bridge Avenue\, Point Pleasant\, NJ\, 08742
CATEGORIES:Borough Events
END:VEVENT
BEGIN:VEVENT
DTSTART;TZID=America/New_York:20250218T190000
DTEND;TZID=America/New_York:20250218T210000
DTSTAMP:20260423T080627
CREATED:20250218T150526Z
LAST-MODIFIED:20250218T150526Z
UID:9048-1739905200-1739912400@ptboro.com
SUMMARY:Environmental Commission Meeting
DESCRIPTION:
URL:https://ptboro.com/event/environmental-commission-meeting-36/
LOCATION:Courtoom\, Borough Hall\, 2233 Bridge Avenue\, Point Pleasant\, NJ\, 08742
CATEGORIES:Borough Events
END:VEVENT
BEGIN:VEVENT
DTSTART;TZID=America/New_York:20250127T190000
DTEND;TZID=America/New_York:20250127T210000
DTSTAMP:20260423T080627
CREATED:20250103T152001Z
LAST-MODIFIED:20250103T152001Z
UID:8991-1738004400-1738011600@ptboro.com
SUMMARY:Council Meeting
DESCRIPTION:
URL:https://ptboro.com/event/council-meeting-82/
LOCATION:Courtoom\, Borough Hall\, 2233 Bridge Avenue\, Point Pleasant\, NJ\, 08742
CATEGORIES:Borough Events
END:VEVENT
BEGIN:VEVENT
DTSTART;TZID=America/New_York:20250123T190000
DTEND;TZID=America/New_York:20250123T210000
DTSTAMP:20260423T080627
CREATED:20250103T151920Z
LAST-MODIFIED:20250103T151920Z
UID:8990-1737658800-1737666000@ptboro.com
SUMMARY:Planning Board Re-Organization Meeting
DESCRIPTION:
URL:https://ptboro.com/event/planning-board-re-organization-meeting-2/
LOCATION:Courtoom\, Borough Hall\, 2233 Bridge Avenue\, Point Pleasant\, NJ\, 08742
CATEGORIES:Borough Events
END:VEVENT
BEGIN:VEVENT
DTSTART;TZID=America/New_York:20250121T190000
DTEND;TZID=America/New_York:20250121T200000
DTSTAMP:20260423T080627
CREATED:20250103T151827Z
LAST-MODIFIED:20250103T151827Z
UID:8989-1737486000-1737489600@ptboro.com
SUMMARY:Environmental Commission Meeting
DESCRIPTION:
URL:https://ptboro.com/event/environmental-commission-meeting-35/
LOCATION:Courtoom\, Borough Hall\, 2233 Bridge Avenue\, Point Pleasant\, NJ\, 08742
CATEGORIES:Borough Events
END:VEVENT
BEGIN:VEVENT
DTSTART;TZID=America/New_York:20250108T190000
DTEND;TZID=America/New_York:20250108T210000
DTSTAMP:20260423T080627
CREATED:20250103T151742Z
LAST-MODIFIED:20250103T151742Z
UID:8988-1736362800-1736370000@ptboro.com
SUMMARY:Zoning Board Re-Organization Meeting
DESCRIPTION:
URL:https://ptboro.com/event/zoning-board-re-organization-meeting-2/
LOCATION:Courtoom\, Borough Hall\, 2233 Bridge Avenue\, Point Pleasant\, NJ\, 08742
CATEGORIES:Borough Events
END:VEVENT
BEGIN:VEVENT
DTSTART;TZID=America/New_York:20250105T120000
DTEND;TZID=America/New_York:20250105T130000
DTSTAMP:20260423T080627
CREATED:20250103T151651Z
LAST-MODIFIED:20250103T151651Z
UID:8987-1736078400-1736082000@ptboro.com
SUMMARY:Council Re-Organization Meeting
DESCRIPTION:
URL:https://ptboro.com/event/council-re-organization-meeting-5/
LOCATION:Courtoom\, Borough Hall\, 2233 Bridge Avenue\, Point Pleasant\, NJ\, 08742
CATEGORIES:Borough Events
END:VEVENT
BEGIN:VEVENT
DTSTART;TZID=America/New_York:20241217T190000
DTEND;TZID=America/New_York:20241217T200000
DTSTAMP:20260423T080627
CREATED:20241202T192302Z
LAST-MODIFIED:20241202T192302Z
UID:8960-1734462000-1734465600@ptboro.com
SUMMARY:Environmental Commission Meeting
DESCRIPTION:
URL:https://ptboro.com/event/environmental-commission-meeting-34/
LOCATION:Courtoom\, Borough Hall\, 2233 Bridge Avenue\, Point Pleasant\, NJ\, 08742
CATEGORIES:Borough Events
END:VEVENT
BEGIN:VEVENT
DTSTART;TZID=America/New_York:20241212T190000
DTEND;TZID=America/New_York:20241212T210000
DTSTAMP:20260423T080627
CREATED:20241202T192059Z
LAST-MODIFIED:20241202T192059Z
UID:8958-1734030000-1734037200@ptboro.com
SUMMARY:Planning Board Meeting
DESCRIPTION:
URL:https://ptboro.com/event/planning-board-meeting-57/
LOCATION:Courtoom\, Borough Hall\, 2233 Bridge Avenue\, Point Pleasant\, NJ\, 08742
CATEGORIES:Borough Events
END:VEVENT
BEGIN:VEVENT
DTSTART;TZID=America/New_York:20241211T190000
DTEND;TZID=America/New_York:20241211T210000
DTSTAMP:20260423T080627
CREATED:20241202T192009Z
LAST-MODIFIED:20241202T192009Z
UID:8956-1733943600-1733950800@ptboro.com
SUMMARY:Zoning Board Meeting
DESCRIPTION:
URL:https://ptboro.com/event/zoning-board-meeting-95/
LOCATION:Courtoom\, Borough Hall\, 2233 Bridge Avenue\, Point Pleasant\, NJ\, 08742
CATEGORIES:Borough Events
END:VEVENT
BEGIN:VEVENT
DTSTART;TZID=America/New_York:20241209T190000
DTEND;TZID=America/New_York:20241209T210000
DTSTAMP:20260423T080627
CREATED:20241202T191921Z
LAST-MODIFIED:20241202T191921Z
UID:8955-1733770800-1733778000@ptboro.com
SUMMARY:Council Meeting
DESCRIPTION:
URL:https://ptboro.com/event/council-meeting-81/
LOCATION:Courtoom\, Borough Hall\, 2233 Bridge Avenue\, Point Pleasant\, NJ\, 08742
CATEGORIES:Borough Events
END:VEVENT
BEGIN:VEVENT
DTSTART;TZID=America/New_York:20241207T160000
DTEND;TZID=America/New_York:20241207T203000
DTSTAMP:20260423T080627
CREATED:20241202T192211Z
LAST-MODIFIED:20241202T192211Z
UID:8959-1733587200-1733603400@ptboro.com
SUMMARY:Christmas Tree Lighting & Market in the Park
DESCRIPTION:
URL:https://ptboro.com/event/christmas-tree-lighting-market-in-the-park-4/
LOCATION:Community Park\, Corner of Bridge Avenue and Beaver Dam Roan\, Point Pleasant\, NJ\, 08742
CATEGORIES:Borough Events
END:VEVENT
BEGIN:VEVENT
DTSTART;TZID=America/New_York:20241125T190000
DTEND;TZID=America/New_York:20241125T210000
DTSTAMP:20260423T080627
CREATED:20241104T171801Z
LAST-MODIFIED:20241104T171801Z
UID:8942-1732561200-1732568400@ptboro.com
SUMMARY:Council Meeting
DESCRIPTION:
URL:https://ptboro.com/event/council-meeting-80/
LOCATION:Courtoom\, Borough Hall\, 2233 Bridge Avenue\, Point Pleasant\, NJ\, 08742
CATEGORIES:Borough Events
END:VEVENT
BEGIN:VEVENT
DTSTART;TZID=America/New_York:20241119T190000
DTEND;TZID=America/New_York:20241119T200000
DTSTAMP:20260423T080627
CREATED:20241104T171726Z
LAST-MODIFIED:20241104T171726Z
UID:8941-1732042800-1732046400@ptboro.com
SUMMARY:Environmental Commission Meeting
DESCRIPTION:
URL:https://ptboro.com/event/environmental-commission-meeting-33/
LOCATION:Courtoom\, Borough Hall\, 2233 Bridge Avenue\, Point Pleasant\, NJ\, 08742
CATEGORIES:Borough Events
END:VEVENT
BEGIN:VEVENT
DTSTART;TZID=America/New_York:20241114T190000
DTEND;TZID=America/New_York:20241114T210000
DTSTAMP:20260423T080627
CREATED:20241104T171644Z
LAST-MODIFIED:20241104T171644Z
UID:8940-1731610800-1731618000@ptboro.com
SUMMARY:Planning Board Meeting
DESCRIPTION:
URL:https://ptboro.com/event/planning-board-meeting-56/
LOCATION:Courtoom\, Borough Hall\, 2233 Bridge Avenue\, Point Pleasant\, NJ\, 08742
CATEGORIES:Borough Events
END:VEVENT
BEGIN:VEVENT
DTSTART;TZID=America/New_York:20241113T190000
DTEND;TZID=America/New_York:20241113T210000
DTSTAMP:20260423T080627
CREATED:20241104T171556Z
LAST-MODIFIED:20241104T171556Z
UID:8939-1731524400-1731531600@ptboro.com
SUMMARY:Zoning Board Meeting
DESCRIPTION:
URL:https://ptboro.com/event/zoning-board-meeting-94/
LOCATION:Courtoom\, Borough Hall\, 2233 Bridge Avenue\, Point Pleasant\, NJ\, 08742
CATEGORIES:Borough Events
END:VEVENT
BEGIN:VEVENT
DTSTART;TZID=America/New_York:20241028T190000
DTEND;TZID=America/New_York:20241028T210000
DTSTAMP:20260423T080627
CREATED:20241007T145113Z
LAST-MODIFIED:20241007T145113Z
UID:8918-1730142000-1730149200@ptboro.com
SUMMARY:Council Meeting
DESCRIPTION:
URL:https://ptboro.com/event/council-meeting-79/
LOCATION:Courtoom\, Borough Hall\, 2233 Bridge Avenue\, Point Pleasant\, NJ\, 08742
CATEGORIES:Borough Events
END:VEVENT
BEGIN:VEVENT
DTSTART;TZID=America/New_York:20241022T170000
DTEND;TZID=America/New_York:20241022T190000
DTSTAMP:20260423T080627
CREATED:20241007T145037Z
LAST-MODIFIED:20241007T145037Z
UID:8917-1729616400-1729623600@ptboro.com
SUMMARY:Trunk or Treat
DESCRIPTION:
URL:https://ptboro.com/event/trunk-or-treat-2/
LOCATION:Community Park\, Corner of Bridge Avenue and Beaver Dam Roan\, Point Pleasant\, NJ\, 08742
CATEGORIES:Borough Events
END:VEVENT
BEGIN:VEVENT
DTSTART;TZID=America/New_York:20241017T170000
DTEND;TZID=America/New_York:20241017T210000
DTSTAMP:20260423T080627
CREATED:20241007T144955Z
LAST-MODIFIED:20241007T144955Z
UID:8916-1729184400-1729198800@ptboro.com
SUMMARY:Haunts in the Park
DESCRIPTION:
URL:https://ptboro.com/event/haunts-in-the-park-5/
LOCATION:Community Park\, Corner of Bridge Avenue and Beaver Dam Roan\, Point Pleasant\, NJ\, 08742
CATEGORIES:Borough Events
END:VEVENT
BEGIN:VEVENT
DTSTART;TZID=America/New_York:20241015T190000
DTEND;TZID=America/New_York:20241015T200000
DTSTAMP:20260423T080627
CREATED:20241007T144918Z
LAST-MODIFIED:20241007T144918Z
UID:8915-1729018800-1729022400@ptboro.com
SUMMARY:Environmental Commission Meeting
DESCRIPTION:
URL:https://ptboro.com/event/environmental-commission-meeting-32/
LOCATION:Courtoom\, Borough Hall\, 2233 Bridge Avenue\, Point Pleasant\, NJ\, 08742
CATEGORIES:Borough Events
END:VEVENT
BEGIN:VEVENT
DTSTART;TZID=America/New_York:20241012T170000
DTEND;TZID=America/New_York:20241012T210000
DTSTAMP:20260423T080627
CREATED:20241007T144842Z
LAST-MODIFIED:20241007T144842Z
UID:8914-1728752400-1728766800@ptboro.com
SUMMARY:Fall Fireworks Festival
DESCRIPTION:
URL:https://ptboro.com/event/fall-fireworks-festival-3/
LOCATION:River Front Park\, Point Pleasant\, NJ\, 08742
CATEGORIES:Borough Events
END:VEVENT
BEGIN:VEVENT
DTSTART;TZID=America/New_York:20241010T190000
DTEND;TZID=America/New_York:20241010T210000
DTSTAMP:20260423T080627
CREATED:20241007T144802Z
LAST-MODIFIED:20241007T144802Z
UID:8913-1728586800-1728594000@ptboro.com
SUMMARY:Planning Board Meeting
DESCRIPTION:
URL:https://ptboro.com/event/planning-board-meeting-55/
LOCATION:Courtoom\, Borough Hall\, 2233 Bridge Avenue\, Point Pleasant\, NJ\, 08742
CATEGORIES:Borough Events
END:VEVENT
BEGIN:VEVENT
DTSTART;TZID=America/New_York:20241010T173000
DTEND;TZID=America/New_York:20241010T183000
DTSTAMP:20260423T080627
CREATED:20241007T144723Z
LAST-MODIFIED:20241007T144723Z
UID:8912-1728581400-1728585000@ptboro.com
SUMMARY:Mayor's Hours
DESCRIPTION:
URL:https://ptboro.com/event/mayors-hours-35/
LOCATION:Courtoom\, Borough Hall\, 2233 Bridge Avenue\, Point Pleasant\, NJ\, 08742
CATEGORIES:Borough Events
END:VEVENT
BEGIN:VEVENT
DTSTART;TZID=America/New_York:20241009T190000
DTEND;TZID=America/New_York:20241009T210000
DTSTAMP:20260423T080627
CREATED:20241007T144643Z
LAST-MODIFIED:20241007T144643Z
UID:8911-1728500400-1728507600@ptboro.com
SUMMARY:Zoning Board Meeting
DESCRIPTION:
URL:https://ptboro.com/event/zoning-board-meeting-93/
LOCATION:Courtoom\, Borough Hall\, 2233 Bridge Avenue\, Point Pleasant\, NJ\, 08742
CATEGORIES:Borough Events
END:VEVENT
BEGIN:VEVENT
DTSTART;TZID=America/New_York:20240926T190000
DTEND;TZID=America/New_York:20240926T210000
DTSTAMP:20260423T080627
CREATED:20240912T235921Z
LAST-MODIFIED:20240912T235921Z
UID:8885-1727377200-1727384400@ptboro.com
SUMMARY:Planning Board Meeting
DESCRIPTION:
URL:https://ptboro.com/event/planning-board-meeting-54/
LOCATION:Courtoom\, Borough Hall\, 2233 Bridge Avenue\, Point Pleasant\, NJ\, 08742
CATEGORIES:Borough Events
END:VEVENT
BEGIN:VEVENT
DTSTART;TZID=America/New_York:20240923T190000
DTEND;TZID=America/New_York:20240923T210000
DTSTAMP:20260423T080627
CREATED:20240912T235816Z
LAST-MODIFIED:20240912T235816Z
UID:8883-1727118000-1727125200@ptboro.com
SUMMARY:Council Meeting
DESCRIPTION:
URL:https://ptboro.com/event/council-meeting-78/
LOCATION:Courtoom\, Borough Hall\, 2233 Bridge Avenue\, Point Pleasant\, NJ\, 08742
CATEGORIES:Borough Events
END:VEVENT
END:VCALENDAR